BEGIN:VCALENDAR
VERSION:2.0
METHOD:PUBLISH
PRODID:-//Tendenci - The Open Source AMS for Associations//Tendenci Codeba
 se MIMEDIR//EN
BEGIN:VEVENT
DESCRIPTION:--- This iCal file does *NOT* confirm registration.\r\nEvent d
 etails subject to change. ---\r\nhttps://www.alliedsportsmen.com/events/27
 9/\r\n\r\nEvent Title: NFPL Match\r\nStart Date / Time: Oct 28, 2024 19:00
  PM America/New_York\r\nLocation: \r\nAT BISON CITY--- This iCal file does
  *NOT* confirm registration.Event details subject to change. ---\r\n\r\n--
 - By Tendenci - The Open Source AMS for Associations ---\r\n
UID:uid279@alliedsportsmen.com
SUMMARY:NFPL Match
DTSTART:20241028T230000Z
DTEND:20241029T010000Z
CLASS:PUBLIC
PRIORITY:5
DTSTAMP:20260421T110212Z
TRANSP:OPAQUE
SEQUENCE:0
X-ALT-DESC;FMTTYPE=text/html:<div>--- This iCal file does *NOT* confirm re
 gistration.Event details subject to change. ---</div><h1>Event Title: NFPL
  Match</h1><div>https://www.alliedsportsmen.com/events/279/</div><br /><di
 v>When: Oct 28, 2024 19:00 PM America/New_York</div><br /><div><p>AT BISON
  CITY</p></div><div>--- This iCal file does *NOT* confirm registration.Eve
 nt details subject to change. ---</div><div>--- Tendenci&reg\; Software by
  <a href="https://www.tendenci.com">tendenci.com</a> - The Open Source AMS
  for Associations ---</div>
BEGIN:VALARM
TRIGGER:-PT30M
ACTION:DISPLAY
DESCRIPTION:Reminder
END:VALARM
END:VEVENT
END:VCALENDAR
