BEGIN:VCALENDAR
VERSION:2.0
METHOD:PUBLISH
PRODID:-//Tendenci - The Open Source AMS for Associations//Tendenci Codeba
 se MIMEDIR//EN
BEGIN:VEVENT
DESCRIPTION:--- This iCal file does *NOT* confirm registration.\r\nEvent d
 etails subject to change. ---\r\nhttps://www.alliedsportsmen.com/events/28
 9/\r\n\r\nEvent Title: NFPL Match\r\nStart Date / Time: Jan 30, 2025 19:00
  PM America/New_York\r\nLocation: \r\nAT BR&amp\;R--- This iCal file does 
 *NOT* confirm registration.Event details subject to change. ---\r\n\r\n---
  By Tendenci - The Open Source AMS for Associations ---\r\n
UID:uid289@alliedsportsmen.com
SUMMARY:NFPL Match
DTSTART:20250131T000000Z
DTEND:20250131T020000Z
CLASS:PUBLIC
PRIORITY:5
DTSTAMP:20260421T094336Z
TRANSP:OPAQUE
SEQUENCE:0
X-ALT-DESC;FMTTYPE=text/html:<div>--- This iCal file does *NOT* confirm re
 gistration.Event details subject to change. ---</div><h1>Event Title: NFPL
  Match</h1><div>https://www.alliedsportsmen.com/events/289/</div><br /><di
 v>When: Jan 30, 2025 19:00 PM America/New_York</div><br /><div><p>AT BR&am
 p\;R</p></div><div>--- This iCal file does *NOT* confirm registration.Even
 t details subject to change. ---</div><div>--- Tendenci&reg\; Software by 
 <a href="https://www.tendenci.com">tendenci.com</a> - The Open Source AMS 
 for Associations ---</div>
BEGIN:VALARM
TRIGGER:-PT30M
ACTION:DISPLAY
DESCRIPTION:Reminder
END:VALARM
END:VEVENT
END:VCALENDAR
