BEGIN:VCALENDAR
VERSION:2.0
METHOD:PUBLISH
PRODID:-//Tendenci - The Open Source AMS for Associations//Tendenci Codeba
 se MIMEDIR//EN
BEGIN:VEVENT
DESCRIPTION:--- This iCal file does *NOT* confirm registration.\r\nEvent d
 etails subject to change. ---\r\nhttps://www.alliedsportsmen.com/events/37
 8/\r\n\r\nEvent Title: Double Tap BANQUET\r\nStart Date / Time: Apr 01, 20
 25 18:30 PM America/New_York\r\nLocation: \r\nPistol Range is closed--- Th
 is iCal file does *NOT* confirm registration.Event details subject to chan
 ge. ---\r\n\r\n--- By Tendenci - The Open Source AMS for Associations ---\
 r\n
UID:uid378@alliedsportsmen.com
SUMMARY:Double Tap BANQUET
DTSTART:20250401T223000Z
DTEND:20250402T003000Z
CLASS:PUBLIC
PRIORITY:5
DTSTAMP:20260419T133914Z
TRANSP:OPAQUE
SEQUENCE:0
X-ALT-DESC;FMTTYPE=text/html:<div>--- This iCal file does *NOT* confirm re
 gistration.Event details subject to change. ---</div><h1>Event Title: Doub
 le Tap BANQUET</h1><div>https://www.alliedsportsmen.com/events/378/</div><
 br /><div>When: Apr 01, 2025 18:30 PM America/New_York</div><br /><div><p>
 Pistol Range is closed</p></div><div>--- This iCal file does *NOT* confirm
  registration.Event details subject to change. ---</div><div>--- Tendenci&
 reg\; Software by <a href="https://www.tendenci.com">tendenci.com</a> - Th
 e Open Source AMS for Associations ---</div>
BEGIN:VALARM
TRIGGER:-PT30M
ACTION:DISPLAY
DESCRIPTION:Reminder
END:VALARM
END:VEVENT
END:VCALENDAR
