BEGIN:VCALENDAR
VERSION:2.0
METHOD:PUBLISH
PRODID:-//Tendenci - The Open Source AMS for Associations//Tendenci Codeba
 se MIMEDIR//EN
BEGIN:VEVENT
DESCRIPTION:--- This iCal file does *NOT* confirm registration.\r\nEvent d
 etails subject to change. ---\r\nhttps://www.alliedsportsmen.com/events/40
 0/\r\n\r\nEvent Title: PPC\r\nStart Date / Time: Mar 25, 2025 18:00 PM Ame
 rica/New_York\r\nLocation: \r\n--- This iCal file does *NOT* confirm regis
 tration.Event details subject to change. ---\r\n\r\n--- By Tendenci - The 
 Open Source AMS for Associations ---\r\n
UID:uid400@alliedsportsmen.com
SUMMARY:PPC
DTSTART:20250325T220000Z
DTEND:20250326T000000Z
CLASS:PUBLIC
PRIORITY:5
DTSTAMP:20260419T130529Z
TRANSP:OPAQUE
SEQUENCE:0
X-ALT-DESC;FMTTYPE=text/html:<div>--- This iCal file does *NOT* confirm re
 gistration.Event details subject to change. ---</div><h1>Event Title: PPC<
 /h1><div>https://www.alliedsportsmen.com/events/400/</div><br /><div>When:
  Mar 25, 2025 18:00 PM America/New_York</div><br /><div></div><div>--- Thi
 s iCal file does *NOT* confirm registration.Event details subject to chang
 e. ---</div><div>--- Tendenci&reg\; Software by <a href="https://www.tende
 nci.com">tendenci.com</a> - The Open Source AMS for Associations ---</div>
BEGIN:VALARM
TRIGGER:-PT30M
ACTION:DISPLAY
DESCRIPTION:Reminder
END:VALARM
END:VEVENT
END:VCALENDAR
