BEGIN:VCALENDAR
VERSION:2.0
METHOD:PUBLISH
PRODID:-//Tendenci - The Open Source AMS for Associations//Tendenci Codeba
 se MIMEDIR//EN
BEGIN:VEVENT
DESCRIPTION:--- This iCal file does *NOT* confirm registration.\r\nEvent d
 etails subject to change. ---\r\nhttps://www.alliedsportsmen.com/events/46
 5/\r\n\r\nEvent Title: POSTPONED-Attic Cleaning\r\nStart Date / Time: Jan 
 11, 2025 13:00 PM America/New_York\r\nLocation: \r\nCome and help clean ou
 t the attic of excessive clutter and organize our storage space.  All are 
 welcome.--- This iCal file does *NOT* confirm registration.Event details s
 ubject to change. ---\r\n\r\n--- By Tendenci - The Open Source AMS for Ass
 ociations ---\r\n
UID:uid465@alliedsportsmen.com
SUMMARY:POSTPONED-Attic Cleaning
DTSTART:20250111T180000Z
DTEND:20250111T200000Z
CLASS:PUBLIC
PRIORITY:5
DTSTAMP:20260421T093453Z
TRANSP:OPAQUE
SEQUENCE:0
X-ALT-DESC;FMTTYPE=text/html:<div>--- This iCal file does *NOT* confirm re
 gistration.Event details subject to change. ---</div><h1>Event Title: POST
 PONED-Attic Cleaning</h1><div>https://www.alliedsportsmen.com/events/465/<
 /div><br /><div>When: Jan 11, 2025 13:00 PM America/New_York</div><br /><d
 iv><p>Come and help clean out the attic of excessive clutter and organize 
 our storage space.&nbsp\; All are welcome.</p></div><div>--- This iCal fil
 e does *NOT* confirm registration.Event details subject to change. ---</di
 v><div>--- Tendenci&reg\; Software by <a href="https://www.tendenci.com">t
 endenci.com</a> - The Open Source AMS for Associations ---</div>
BEGIN:VALARM
TRIGGER:-PT30M
ACTION:DISPLAY
DESCRIPTION:Reminder
END:VALARM
END:VEVENT
END:VCALENDAR
