BEGIN:VCALENDAR
VERSION:2.0
METHOD:PUBLISH
PRODID:-//Tendenci - The Open Source AMS for Associations//Tendenci Codeba
 se MIMEDIR//EN
BEGIN:VEVENT
DESCRIPTION:--- This iCal file does *NOT* confirm registration.\r\nEvent d
 etails subject to change. ---\r\nhttps://www.alliedsportsmen.com/events/57
 6/\r\n\r\nEvent Title: Clubhouse Cleaning\r\nStart Date / Time: Mar 21, 20
 25 18:30 PM America/New_York\r\nLocation: \r\n--- This iCal file does *NOT
 * confirm registration.Event details subject to change. ---\r\n\r\n--- By 
 Tendenci - The Open Source AMS for Associations ---\r\n
UID:uid576@alliedsportsmen.com
SUMMARY:Clubhouse Cleaning
DTSTART:20250321T223000Z
DTEND:20250322T003000Z
CLASS:PUBLIC
PRIORITY:5
DTSTAMP:20260419T133926Z
TRANSP:OPAQUE
SEQUENCE:0
X-ALT-DESC;FMTTYPE=text/html:<div>--- This iCal file does *NOT* confirm re
 gistration.Event details subject to change. ---</div><h1>Event Title: Club
 house Cleaning</h1><div>https://www.alliedsportsmen.com/events/576/</div><
 br /><div>When: Mar 21, 2025 18:30 PM America/New_York</div><br /><div></d
 iv><div>--- This iCal file does *NOT* confirm registration.Event details s
 ubject to change. ---</div><div>--- Tendenci&reg\; Software by <a href="ht
 tps://www.tendenci.com">tendenci.com</a> - The Open Source AMS for Associa
 tions ---</div>
BEGIN:VALARM
TRIGGER:-PT30M
ACTION:DISPLAY
DESCRIPTION:Reminder
END:VALARM
END:VEVENT
END:VCALENDAR
