BEGIN:VCALENDAR
VERSION:2.0
METHOD:PUBLISH
PRODID:-//Tendenci - The Open Source AMS for Associations//Tendenci Codeba
 se MIMEDIR//EN
BEGIN:VEVENT
DESCRIPTION:--- This iCal file does *NOT* confirm registration.\r\nEvent d
 etails subject to change. ---\r\nhttps://www.alliedsportsmen.com/events/57
 7/\r\n\r\nEvent Title: Pistol League Banquet\r\nStart Date / Time: Apr 05,
  2025 16:00 PM America/New_York\r\nLocation: \r\nThe pistol range is close
 d during the banquet--- This iCal file does *NOT* confirm registration.Eve
 nt details subject to change. ---\r\n\r\n--- By Tendenci - The Open Source
  AMS for Associations ---\r\n
UID:uid577@alliedsportsmen.com
SUMMARY:Pistol League Banquet
DTSTART:20250405T200000Z
DTEND:20250405T230000Z
CLASS:PUBLIC
PRIORITY:5
DTSTAMP:20260419T145223Z
TRANSP:OPAQUE
SEQUENCE:0
X-ALT-DESC;FMTTYPE=text/html:<div>--- This iCal file does *NOT* confirm re
 gistration.Event details subject to change. ---</div><h1>Event Title: Pist
 ol League Banquet</h1><div>https://www.alliedsportsmen.com/events/577/</di
 v><br /><div>When: Apr 05, 2025 16:00 PM America/New_York</div><br /><div>
 <p>The pistol range is closed during the banquet</p></div><div>--- This iC
 al file does *NOT* confirm registration.Event details subject to change. -
 --</div><div>--- Tendenci&reg\; Software by <a href="https://www.tendenci.
 com">tendenci.com</a> - The Open Source AMS for Associations ---</div>
BEGIN:VALARM
TRIGGER:-PT30M
ACTION:DISPLAY
DESCRIPTION:Reminder
END:VALARM
END:VEVENT
END:VCALENDAR
